BEGIN:VCALENDAR
VERSION:2.0
PRODID:-//eventon.com NONSGML v1.0//EN
CALSCALE:GREGORIAN
METHOD:PUBLISH
BEGIN:VEVENT
UID:69e5c1d4aed48
DTSTAMP:20260420T060404Z
DTSTART:20220527T143000Z
DTEND:20220527T163000Z
LOCATION:
SUMMARY:Cénacle à Bouliac
DESCRIPTION:Bouliac (33270) – Église Saint-Siméon. 14 h 30 Cénacle ave
 c Messe. Renseignements : Marie-Clarence Boureau\,  06.65.01.08.65\nhttps:
 //www.msm-france.com/events/vendredi-27-mai/
URL:https://www.msm-france.com/events/vendredi-27-mai/
END:VEVENT
END:VCALENDAR