BEGIN:VCALENDAR
VERSION:2.0
PRODID:-//eventon.com NONSGML v1.0//EN
CALSCALE:GREGORIAN
METHOD:PUBLISH
BEGIN:VEVENT
UID:69e6c39fd92f5
DTSTAMP:20260421T002359Z
DTSTART:20240602T140000Z
DTEND:20240602T160000Z
LOCATION:
SUMMARY:Cénacle à Longuenesse (62219)
DESCRIPTION:Chapelle Sainte Croix. 3 rue Victor Hugo. 14h Cénacle avec me
 sse. Rens. 06 45 41 31 78\nhttps://www.msm-france.com/events/cenacle-a-long
 uenesse-62219/
URL:https://www.msm-france.com/events/cenacle-a-longuenesse-62219/
END:VEVENT
END:VCALENDAR