BEGIN:VCALENDAR
VERSION:2.0
PRODID:-//eventon.com NONSGML v1.0//EN
CALSCALE:GREGORIAN
METHOD:PUBLISH
BEGIN:VEVENT
UID:69ebbb5a7d69f
DTSTAMP:20260424T185002Z
DTSTART:20240603T143000Z
DTEND:20240603T163000Z
LOCATION:
SUMMARY:Cénacle à Valenciennes (59300)
DESCRIPTION:Communauté du Pain de Vie. 9 Place verte. 14h30 Cénacle avec 
 messe. Rens. 06 45 41 31 78\nhttps://www.msm-france.com/events/cenacle-a-va
 lenciennes-59300/
URL:https://www.msm-france.com/events/cenacle-a-valenciennes-59300/
END:VEVENT
END:VCALENDAR