BEGIN:VCALENDAR
VERSION:2.0
PRODID:-//eventon.com NONSGML v1.0//EN
CALSCALE:GREGORIAN
METHOD:PUBLISH
BEGIN:VEVENT
UID:69ea838c6df6b
DTSTAMP:20260423T203940Z
DTSTART:20240608T100000Z
DTEND:20240608T120000Z
LOCATION:
SUMMARY:Cénacle à Beauraing (Belgique)
DESCRIPTION:Sanctuaire - Église du Rosaire. 10h Cénacle avec messe. Rens.
  00 33 645 41 61 78\nhttps://www.msm-france.com/events/cenacle-a-beauraing-
 belgique/
URL:https://www.msm-france.com/events/cenacle-a-beauraing-belgique/
END:VEVENT
END:VCALENDAR