BEGIN:VCALENDAR
VERSION:2.0
PRODID:-//eventon.com NONSGML v1.0//EN
CALSCALE:GREGORIAN
METHOD:PUBLISH
BEGIN:VEVENT
UID:69e5bf3a5f3dc
DTSTAMP:20260420T055258Z
DTSTART:20250210T090000Z
DTEND:20250210T160000Z
LOCATION:
SUMMARY:Cénacle de prêtres
DESCRIPTION:Cénacle de prêtres\nhttps://www.msm-france.com/events/cenacle
 -de-pretres/
URL:https://www.msm-france.com/events/cenacle-de-pretres/
END:VEVENT
END:VCALENDAR