BEGIN:VCALENDAR
VERSION:2.0
PRODID:-//eventon.com NONSGML v1.0//EN
CALSCALE:GREGORIAN
METHOD:PUBLISH
BEGIN:VEVENT
UID:69e5521895e31
DTSTAMP:20260419T220720Z
DTSTART:20250406T170000Z
DTEND:20250406T183000Z
LOCATION:
SUMMARY:Cénacle à Paris
DESCRIPTION:Cénacle à Paris\nhttps://www.msm-france.com/events/cenacle-a-
 paris-19/
URL:https://www.msm-france.com/events/cenacle-a-paris-19/
END:VEVENT
END:VCALENDAR