BEGIN:VCALENDAR
VERSION:2.0
PRODID:-//eventon.com NONSGML v1.0//EN
CALSCALE:GREGORIAN
METHOD:PUBLISH
BEGIN:VEVENT
UID:69eaa0f264c26
DTSTAMP:20260423T224506Z
DTSTART:20250604T143000Z
DTEND:20250604T163000Z
LOCATION:
SUMMARY:Cénacle à Baisieux
DESCRIPTION:Cénacle à Baisieux\nhttps://www.msm-france.com/events/cenacle
 -a-baisieux-2/
URL:https://www.msm-france.com/events/cenacle-a-baisieux-2/
END:VEVENT
END:VCALENDAR